BEGIN:VCALENDAR
VERSION:2.0
PRODID:-//ChamberMaster//Event Calendar 2.0//EN
METHOD:PUBLISH
X-PUBLISHED-TTL:P3D
REFRESH-INTERVAL:P3D
CALSCALE:GREGORIAN
BEGIN:VEVENT
DTSTART:20230203T153000Z
DTEND:20230203T160000Z
X-MICROSOFT-CDO-ALLDAYEVENT:FALSE
SUMMARY:Weekly Business Coffee - Celebrating Catholic Schools Week at Bishop Garrigan High School
DESCRIPTION:Weekly Chamber coffee at Bishop Garrigan High School to celebrate Catholic Schools Week
X-ALT-DESC;FMTTYPE=text/html:Weekly Chamber coffee at Bishop Garrigan High School to celebrate Catholic Schools Week&nbsp\;
LOCATION:Bishop Garrigan High School 1224 N McCoy St\, Algona\, IA 50511
UID:e.3362.1770
SEQUENCE:3
DTSTAMP:20260422T023843Z
URL:https://www.algona.org/events/details/weekly-business-coffee-celebrating-catholic-schools-week-at-bishop-garrigan-high-school-1770
END:VEVENT

END:VCALENDAR
