BEGIN:VCALENDAR
VERSION:2.0
PRODID:-//ChamberMaster//Event Calendar 2.0//EN
METHOD:PUBLISH
X-PUBLISHED-TTL:P3D
REFRESH-INTERVAL:P3D
CALSCALE:GREGORIAN
BEGIN:VEVENT
DTSTART:20260619T143000Z
DTEND:20260619T150000Z
X-MICROSOFT-CDO-ALLDAYEVENT:FALSE
SUMMARY:Weekly Business Coffee at Snap-on Inc. of Algona
DESCRIPTION:Join us for the Weekly Chamber Coffee hosted by Snap-on Inc. of Algona on Friday\, June 19\, 2026\, at 9:30 a.m.\n\nStop in for coffee and refreshments while connecting with fellow Chamber members and learning more about Snap-on's presence in Algona and the important role they play in our community as the largest employer in town and a huge contributor and supporter of many community activities and events.\n\nGuests will also have the opportunity to see the remodel completed in the spring of 2025\, including updates to the front office\, meeting rooms\, and front lawn landscaping.\n\nCome enjoy a morning of networking\, conversation\, and a closer look at one of Algona's major employers and valued Chamber members. We hope to see you there!
X-ALT-DESC;FMTTYPE=text/html:<p data-end="147" data-start="38">Join us for the Weekly Chamber Coffee hosted by Snap-on Inc. of Algona on Friday\, June 19\, 2026\, at 9:30 a.m.</p>\n\n<p data-end="442" data-start="149">Stop in for coffee and refreshments while connecting with fellow Chamber members and learning more about Snap-on&rsquo\;s presence in Algona and the important role they play in our community as the largest employer in town and a huge contributor and supporter of many community activities and events.</p>\n\n<p data-end="615" data-start="444">Guests will also have the opportunity to see the remodel completed in the spring of 2025\, including updates to the front office\, meeting rooms\, and front lawn landscaping.</p>\n\n<p data-end="773" data-is-last-node="" data-is-only-node="" data-start="617">Come enjoy a morning of networking\, conversation\, and a closer look at one of Algona&rsquo\;s major employers and valued Chamber members. We hope to see you there!</p>\n
LOCATION:Snap-on Inc. of Algona 2600 Hwy 18 E\, Algona
UID:e.3362.2908
SEQUENCE:3
DTSTAMP:20260422T080504Z
URL:https://www.algona.org/events/details/weekly-business-coffee-at-snap-on-inc-of-algona-2908
END:VEVENT

END:VCALENDAR
