BEGIN:VCALENDAR
VERSION:2.0
PRODID:-//ChamberMaster//Event Calendar 2.0//EN
METHOD:PUBLISH
X-PUBLISHED-TTL:P3D
REFRESH-INTERVAL:P3D
CALSCALE:GREGORIAN
BEGIN:VEVENT
DTSTART:20190403T140000Z
DTEND:20190403T160000Z
X-MICROSOFT-CDO-ALLDAYEVENT:FALSE
SUMMARY:Coffee\, Cards\, & Conversation
DESCRIPTION:Join us at the YMCA for Coffee\, Cards and Conversation\, the 1st Wednesday of every month.  Everyone is welcome (need not be a member).  There is free coffee\, cards\, cribbage boards and conversation!
X-ALT-DESC;FMTTYPE=text/html:<strong>Join us at the YMCA for Coffee\, Cards and Conversation\, the 1st Wednesday of every month.&nbsp\; Everyone is welcome (need not be a member).&nbsp\; There is free coffee\, cards\, cribbage boards and conversation!</strong>
LOCATION:Algona Family YMCA 2101 E. McGregor St. Algona\, IA 50511
UID:e.3362.744
SEQUENCE:3
DTSTAMP:20260425T220141Z
URL:https://www.algona.org/events/details/coffee-cards-conversation-04-03-2019-744
END:VEVENT

END:VCALENDAR
