BEGIN:VCALENDAR
VERSION:2.0
PRODID:-//ChamberMaster//Event Calendar 2.0//EN
METHOD:PUBLISH
X-PUBLISHED-TTL:P3D
REFRESH-INTERVAL:P3D
CALSCALE:GREGORIAN
BEGIN:VEVENT
DTSTART:20261003T180000Z
DTEND:20261003T200000Z
X-MICROSOFT-CDO-ALLDAYEVENT:FALSE
SUMMARY:78th Annual Band Day Festival
DESCRIPTION:Mark your calendars for Saturday\, October 3\, 2026\, and experience the excitement of the 78th Annual Band Day Festival!\n\nSpend the day in downtown Algona enjoying a lively parade filled with vibrant floats\, classic and specialty vehicles\, and the incredible sound of school marching bands from across the region. It's a celebration of music\, tradition\, and hometown pride you won't want to miss!\n\nFollowing the parade\, head to the AHS Stadium for the highly anticipated Algona Band Day Field Competition\, where bands will showcase their talent\, precision\, and showmanship on the field.
X-ALT-DESC;FMTTYPE=text/html:<p data-end="212" data-start="84"><span style="font-size:16px\;"><span style="font-family:tahoma\;"><strong>Mark your calendars for <strong data-end="137" data-start="108">Saturday\, October 3\, 2026</strong>\, and experience the excitement of the <strong data-end="209" data-start="176">78th Annual Band Day Festival</strong>!</strong></span></span></p>\n\n<p data-end="490" data-start="214"><span style="font-size:16px\;"><span style="font-family:tahoma\;"><strong>Spend the day in downtown Algona enjoying a lively parade filled with vibrant floats\, classic and specialty vehicles\, and the incredible sound of school marching bands from across the region. It&rsquo\;s a celebration of music\, tradition\, and hometown pride you won&rsquo\;t want to miss!</strong></span></span></p>\n\n<p data-end="686" data-start="492"><span style="font-size:16px\;"><span style="font-family:tahoma\;"><strong>Following the parade\, head to the AHS Stadium for the highly anticipated <strong data-end="602" data-start="565">Algona Band Day Field Competition</strong>\, where bands will showcase their talent\, precision\, and showmanship on the field.</strong></span></span></p>\n
LOCATION:Parade will go from the intersection of Colby & East State Street to the intersection of Thorington & West State Street in downtown Algona
UID:e.3362.2892
SEQUENCE:3
DTSTAMP:20260425T103928Z
URL:https://www.algona.org/events/details/78th-annual-band-day-festival-2892
END:VEVENT

END:VCALENDAR
