BEGIN:VCALENDAR
VERSION:2.0
PRODID:-//ChamberMaster//Event Calendar 2.0//EN
METHOD:PUBLISH
X-PUBLISHED-TTL:P3D
REFRESH-INTERVAL:P3D
CALSCALE:GREGORIAN
BEGIN:VEVENT
DTSTART:20251004T180000Z
DTEND:20251004T200000Z
X-MICROSOFT-CDO-ALLDAYEVENT:FALSE
SUMMARY:77th Annual Band Day Festival
DESCRIPTION:77th Annual Band Day Festival - Come see\, listen\, & enjoy a variety of floats\, vehicles\, and school marching bands\, on Saturday\, October 4\, 2025 for the annual Band Day parade and field competition. \n\nFollowed by the Algona Band Day Field Competition at the AHS stadium \nA Huge Thank You to Our Band Day Sponsors! \n\nThe 77th Annual Band Day Festival would not be possible without the incredible support of our local sponsors. From trophies and judging to advertising and promotion\, your generosity keeps this cherished tradition thriving year after year. We are truly grateful for your commitment to our community and for helping keep the music alive! \n\n \n\n\n	\n		\n	\n	\n		\n			PLATINUM SPONSORS:\n		\n		\n			A2Z Broadcasting\, KLGA & KLGZ\n		\n		\n			Algona Community Schools \n		\n		\n			Algona Municipal Utilities \n		\n		\n			Billy Offerman State Farm\n		\n		\n			Citizens Community Credit Union\n		\n		\n			City of Algona\n		\n		\n			Cotton Grave Farm Mgmt.\n		\n		\n			Erpelding\, Voigt & Co.\n		\n		\n			Feed Mill Coffee Co. \n		\n		\n			Good Samaritan Society - Algona \n		\n		\n			Greg Penning & Co. LLC\n		\n		\n			Homestead of Algona \n		\n		\n			Hormel Foods Corporation\n		\n		\n			Hy-Vee \n		\n		\n			IAMAW Local Lodge 1045\n		\n		\n			Iowa State Bank\n		\n		\n			KC Nielsen \n		\n		\n			Northwest Bank\n		\n		\n			PMC Advantage Ins. Services \n		\n		\n			Snap-on\n		\n		\n			Steier Ag \n		\n		\n			GOLD SPONSORS:\n		\n		\n			Bolton & Menk\, Inc.\n		\n		\n			Corteva Agriscience\n		\n		\n			Erpelding\, Excavating Enterprises \n		\n		\n			Farmers State Bank\n		\n		\n			Glen's Green Thumb\n		\n		\n			Kemna Auto Center\n		\n		\n			Main Street Specialties \n		\n		\n			Pet Kingdom\n		\n		\n			Precision Food Innovations (PFI)\n		\n		\n			Shelly Orthodontics \n		\n		\n			Smithfield\n		\n		\n			SILVER SPONSORS:\n		\n		\n			Advanced Interior Care \n		\n		\n			AGP\n		\n		\n			Algona Rotary Club\n		\n		\n			Bishop Garrigan \n		\n		\n			Bloom\n		\n		\n			Buchanan Law Office \n		\n		\n			Divine Mercy Catholic Parish \n		\n		\n			Kossuth Abstract and Title\n		\n		\n			MLICHTER fINE ART dESIGN\n		\n		\n			Prism Wealth Advisors \n		\n		\n			River Road Golf Club\n		\n		\n			RS Home & Design\n		\n		\n			Sportsman's Corner \n		\n		\n			BRONZE SPONSORS:\n		\n		\n			Algona Floor Design\n		\n		\n			Algona Frame & Auto Body\n		\n		\n			Carter's Piano Service \n		\n		\n			cb Studio\n		\n		\n			Central Financial Group\n		\n		\n			Drs. Klepper & Trainer\n		\n		\n			Faith Church \n		\n		\n			Innovations Salon & Spa\n		\n		\n			Iowa Lakes Community College\n		\n		\n			Kossuth County Republicans\n		\n		\n			Kossuth Regional Health Center\n		\n		\n			Manske Drainage\, Inc. \n		\n		\n			Premier Pizza\n		\n		\n			Scooters Coffee \n		\n		\n			Security State Bank\n		\n		\n			Sign Works \n		\n		\n			The Antique Home Store \n		\n		\n			Dance Connection by Michelle
X-ALT-DESC;FMTTYPE=text/html:77th Annual Band Day Festival -&nbsp\;<span style="font-family:arial\,sans-serif\;">Come see\, listen\, &amp\; enjoy a variety of floats\, vehicles\, and school marching bands\, on <strong><span style="font-family:arial\,sans-serif\;">Saturday\, October 4\, 2025</span></strong></span>&nbsp\;for the annual Band Day parade and field competition.<span style="letter-spacing:-.15pt\;">&nbsp\;</span><br />\nFollowed by the Algona Band Day Field Competition at the AHS stadium&nbsp\;\n<p data-end="163" data-start="101"><strong data-end="154" data-start="108">A Huge Thank You to Our Band Day Sponsors!</strong>&nbsp\;</p>\n\n<p data-end="505" data-start="165">The 77th Annual Band Day Festival would not be possible without the incredible support of our local sponsors. From trophies and judging to advertising and promotion\, your generosity keeps this cherished tradition thriving year after year. We are truly grateful for your commitment to our community and for helping keep the music alive!&nbsp\;<br />\n&nbsp\;</p>\n\n<table border="0" cellpadding="0" cellspacing="0" style="border-collapse:collapse\;width:245px\;" width="245">\n	<colgroup>\n		<col style="width:245px\;" />\n	</colgroup>\n	<tbody>\n		<tr height="20" style="height:20px\;">\n			<td height="20" style="height:20px\;width:245px\;"><strong>PLATINUM SPONSORS:</strong></td>\n		</tr>\n		<tr height="21" style="height:21px\;">\n			<td align="left" height="21" style="height:21px\;">A2Z Broadcasting\, KLGA &amp\; KLGZ</td>\n		</tr>\n		<tr height="20" style="height:20px\;">\n			<td align="left" height="20" style="height:20px\;border-top:none\;">Algona Community Schools&nbsp\;</td>\n		</tr>\n		<tr height="20" style="height:20px\;">\n			<td align="left" height="20" style="height:20px\;border-top:none\;">Algona Municipal Utilities&nbsp\;</td>\n		</tr>\n		<tr height="20" style="height:20px\;">\n			<td align="left" height="20" style="height:20px\;border-top:none\;">Billy Offerman State Farm</td>\n		</tr>\n		<tr height="20" style="height:20px\;">\n			<td align="left" height="20" style="height:20px\;border-top:none\;">Citizens Community Credit Union</td>\n		</tr>\n		<tr height="20" style="height:20px\;">\n			<td align="left" height="20" style="height:20px\;border-top:none\;">City of Algona</td>\n		</tr>\n		<tr height="20" style="height:20px\;">\n			<td align="left" height="20" style="height:20px\;border-top:none\;">Cotton Grave Farm Mgmt.</td>\n		</tr>\n		<tr height="20" style="height:20px\;">\n			<td align="left" height="20" style="height:20px\;border-top:none\;">Erpelding\, Voigt &amp\; Co.</td>\n		</tr>\n		<tr height="20" style="height:20px\;">\n			<td align="left" height="20" style="height:20px\;border-top:none\;">Feed Mill Coffee Co.&nbsp\;</td>\n		</tr>\n		<tr height="20" style="height:20px\;">\n			<td align="left" height="20" style="height:20px\;border-top:none\;">Good Samaritan Society - Algona&nbsp\;</td>\n		</tr>\n		<tr height="20" style="height:20px\;">\n			<td align="left" height="20" style="height:20px\;border-top:none\;">Greg Penning &amp\; Co. LLC</td>\n		</tr>\n		<tr height="20" style="height:20px\;">\n			<td align="left" height="20" style="height:20px\;border-top:none\;">Homestead of Algona&nbsp\;</td>\n		</tr>\n		<tr height="20" style="height:20px\;">\n			<td align="left" height="20" style="height:20px\;border-top:none\;">Hormel Foods Corporation</td>\n		</tr>\n		<tr height="20" style="height:20px\;">\n			<td align="left" height="20" style="height:20px\;border-top:none\;">Hy-Vee&nbsp\;</td>\n		</tr>\n		<tr height="21" style="height:21px\;">\n			<td align="left" height="21" style="height:21px\;border-top:none\;">IAMAW Local Lodge 1045</td>\n		</tr>\n		<tr height="20" style="height:20px\;">\n			<td align="left" height="20" style="height:20px\;border-top:none\;">Iowa State Bank</td>\n		</tr>\n		<tr height="20" style="height:20px\;">\n			<td align="left" height="20" style="height:20px\;border-top:none\;">KC Nielsen&nbsp\;</td>\n		</tr>\n		<tr height="20" style="height:20px\;">\n			<td align="left" height="20" style="height:20px\;border-top:none\;">Northwest Bank</td>\n		</tr>\n		<tr height="20" style="height:20px\;">\n			<td align="left" height="20" style="height:20px\;border-top:none\;">PMC Advantage Ins. Services&nbsp\;</td>\n		</tr>\n		<tr height="20" style="height:20px\;">\n			<td align="left" height="20" style="height:20px\;border-top:none\;">Snap-on</td>\n		</tr>\n		<tr height="20" style="height:20px\;">\n			<td align="left" height="20" style="height:20px\;border-top:none\;">Steier Ag&nbsp\;</td>\n		</tr>\n		<tr height="20" style="height:20px\;">\n			<td height="20" style="height:20px\;border-top:none\;"><strong>GOLD SPONSORS:</strong></td>\n		</tr>\n		<tr height="20" style="height:20px\;">\n			<td align="left" height="20" style="height:20px\;border-top:none\;">Bolton &amp\; Menk\, Inc.</td>\n		</tr>\n		<tr height="20" style="height:20px\;">\n			<td align="left" height="20" style="height:20px\;border-top:none\;">Corteva Agriscience</td>\n		</tr>\n		<tr height="20" style="height:20px\;">\n			<td align="left" height="20" style="height:20px\;border-top:none\;">Erpelding\, Excavating Enterprises&nbsp\;</td>\n		</tr>\n		<tr height="20" style="height:20px\;">\n			<td align="left" height="20" style="height:20px\;border-top:none\;">Farmers State Bank</td>\n		</tr>\n		<tr height="20" style="height:20px\;">\n			<td align="left" height="20" style="height:20px\;border-top:none\;">Glen&#39\;s Green Thumb</td>\n		</tr>\n		<tr height="20" style="height:20px\;">\n			<td align="left" height="20" style="height:20px\;border-top:none\;">Kemna Auto Center</td>\n		</tr>\n		<tr height="20" style="height:20px\;">\n			<td align="left" height="20" style="height:20px\;border-top:none\;">Main Street Specialties&nbsp\;</td>\n		</tr>\n		<tr height="20" style="height:20px\;">\n			<td align="left" height="20" style="height:20px\;border-top:none\;">Pet Kingdom</td>\n		</tr>\n		<tr height="20" style="height:20px\;">\n			<td align="left" height="20" style="height:20px\;border-top:none\;">Precision Food Innovations (PFI)</td>\n		</tr>\n		<tr height="20" style="height:20px\;">\n			<td align="left" height="20" style="height:20px\;border-top:none\;">Shelly Orthodontics&nbsp\;</td>\n		</tr>\n		<tr height="20" style="height:20px\;">\n			<td align="left" height="20" style="height:20px\;border-top:none\;">Smithfield</td>\n		</tr>\n		<tr height="20" style="height:20px\;">\n			<td height="20" style="height:20px\;border-top:none\;"><strong>SILVER SPONSORS:</strong></td>\n		</tr>\n		<tr height="20" style="height:20px\;">\n			<td align="left" height="20" style="height:20px\;border-top:none\;">Advanced Interior Care&nbsp\;</td>\n		</tr>\n		<tr height="20" style="height:20px\;">\n			<td align="left" height="20" style="height:20px\;border-top:none\;">AGP</td>\n		</tr>\n		<tr height="20" style="height:20px\;">\n			<td align="left" height="20" style="height:20px\;border-top:none\;">Algona Rotary Club</td>\n		</tr>\n		<tr height="20" style="height:20px\;">\n			<td align="left" height="20" style="height:20px\;border-top:none\;">Bishop Garrigan&nbsp\;</td>\n		</tr>\n		<tr height="20" style="height:20px\;">\n			<td align="left" height="20" style="height:20px\;border-top:none\;">Bloom</td>\n		</tr>\n		<tr height="20" style="height:20px\;">\n			<td align="left" height="20" style="height:20px\;border-top:none\;">Buchanan Law Office&nbsp\;</td>\n		</tr>\n		<tr height="20" style="height:20px\;">\n			<td align="left" height="20" style="height:20px\;border-top:none\;">Divine Mercy Catholic Parish&nbsp\;</td>\n		</tr>\n		<tr height="20" style="height:20px\;">\n			<td align="left" height="20" style="height:20px\;border-top:none\;">Kossuth Abstract and Title</td>\n		</tr>\n		<tr height="20" style="height:20px\;">\n			<td align="left" height="20" style="height:20px\;border-top:none\;">MLICHTER fINE ART dESIGN</td>\n		</tr>\n		<tr height="20" style="height:20px\;">\n			<td align="left" height="20" style="height:20px\;border-top:none\;">Prism Wealth Advisors&nbsp\;</td>\n		</tr>\n		<tr height="20" style="height:20px\;">\n			<td align="left" height="20" style="height:20px\;border-top:none\;">River Road Golf Club</td>\n		</tr>\n		<tr height="20" style="height:20px\;">\n			<td align="left" height="20" style="height:20px\;border-top:none\;">RS Home &amp\; Design</td>\n		</tr>\n		<tr height="20" style="height:20px\;">\n			<td align="left" height="20" style="height:20px\;border-top:none\;">Sportsman&#39\;s Corner&nbsp\;</td>\n		</tr>\n		<tr height="20" style="height:20px\;">\n			<td height="20" style="height:20px\;border-top:none\;"><strong>BRONZE SPONSORS:</strong></td>\n		</tr>\n		<tr height="20" style="height:20px\;">\n			<td align="left" height="20" style="height:20px\;border-top:none\;">Algona Floor Design</td>\n		</tr>\n		<tr height="20" style="height:20px\;">\n			<td align="left" height="20" style="height:20px\;border-top:none\;">Algona Frame &amp\; Auto Body</td>\n		</tr>\n		<tr height="20" style="height:20px\;">\n			<td align="left" height="20" style="height:20px\;border-top:none\;">Carter&#39\;s Piano Service&nbsp\;</td>\n		</tr>\n		<tr height="20" style="height:20px\;">\n			<td align="left" height="20" style="height:20px\;border-top:none\;">cb Studio</td>\n		</tr>\n		<tr height="20" style="height:20px\;">\n			<td align="left" height="20" style="height:20px\;border-top:none\;">Central Financial Group</td>\n		</tr>\n		<tr height="20" style="height:20px\;">\n			<td align="left" height="20" style="height:20px\;border-top:none\;">Drs. Klepper &amp\; Trainer</td>\n		</tr>\n		<tr height="20" style="height:20px\;">\n			<td align="left" height="20" style="height:20px\;border-top:none\;">Faith Church&nbsp\;</td>\n		</tr>\n		<tr height="21" style="height:21px\;">\n			<td align="left" height="21" style="height:21px\;border-top:none\;">Innovations Salon &amp\; Spa</td>\n		</tr>\n		<tr height="21" style="height:21px\;">\n			<td align="left" height="21" style="height:21px\;border-top:none\;">Iowa Lakes Community College</td>\n		</tr>\n		<tr height="20" style="height:20px\;">\n			<td align="left" height="20" style="height:20px\;border-top:none\;">Kossuth County Republicans</td>\n		</tr>\n		<tr height="20" style="height:20px\;">\n			<td align="left" height="20" style="height:20px\;border-top:none\;">Kossuth Regional Health Center</td>\n		</tr>\n		<tr height="20" style="height:20px\;">\n			<td align="left" height="20" style="height:20px\;border-top:none\;">Manske Drainage\, Inc.&nbsp\;</td>\n		</tr>\n		<tr height="20" style="height:20px\;">\n			<td align="left" height="20" style="height:20px\;border-top:none\;">Premier Pizza</td>\n		</tr>\n		<tr height="20" style="height:20px\;">\n			<td align="left" height="20" style="height:20px\;border-top:none\;">Scooters Coffee&nbsp\;</td>\n		</tr>\n		<tr height="20" style="height:20px\;">\n			<td align="left" height="20" style="height:20px\;border-top:none\;">Security State Bank</td>\n		</tr>\n		<tr height="20" style="height:20px\;">\n			<td align="left" height="20" style="height:20px\;border-top:none\;">Sign Works&nbsp\;</td>\n		</tr>\n		<tr height="20" style="height:20px\;">\n			<td align="left" height="20" style="height:20px\;border-top:none\;">The Antique Home Store&nbsp\;</td>\n		</tr>\n		<tr height="20" style="height:20px\;">\n			<td align="left" height="20" style="height:20px\;border-top:none\;">Dance Connection by Michelle</td>\n		</tr>\n	</tbody>\n</table>\n
LOCATION:Parade will go from East State Street to the end of West State Street in Algona
UID:e.3362.2540
SEQUENCE:3
DTSTAMP:20260424T083254Z
URL:https://www.algona.org/events/details/77th-annual-band-day-festival-2540
END:VEVENT

END:VCALENDAR
