BEGIN:VCALENDAR
VERSION:2.0
PRODID:-//ChamberMaster//Event Calendar 2.0//EN
METHOD:PUBLISH
X-PUBLISHED-TTL:P3D
REFRESH-INTERVAL:P3D
CALSCALE:GREGORIAN
BEGIN:VEVENT
DTSTART:20230930T180000Z
DTEND:20230930T200000Z
X-MICROSOFT-CDO-ALLDAYEVENT:FALSE
SUMMARY:75th Annual Band Day Festival
DESCRIPTION:75th Annual Band Day Festival - Come see\, listen\, & enjoy a variety of floats\, vehicles\, and school marching bands\, on Saturday\, September 30\, 2023 for the annual Band Day parade and field competition. We are especially excited this year to celebrate the 75th anniversary of this popular Algona tradition! Special activities have been planned for this year's celebration including a float contest\, alumni band\, color guard kids camp\, and fireworks! You can still enter your business or organization in our Band Day parade   contact the Chamber today!\n\n	NEW this year is a Food Truck Food Court at the corner of Thorington & State Street to offer more food options during the festival. Six food trucks will be available from noon   6 p.m. In honor of our fallen police officer Kevin Cram\, the Chamber has teamed up with Hy-Vee to make the food court a fundraiser for the Cram family\; 25% of profits from the food trucks will go to the family.\n\nFollowed by the Algona Band Day Field Competition at the AHS stadium
X-ALT-DESC;FMTTYPE=text/html:75th Annual Band Day Festival -&nbsp\;<span style="font-family:arial\,sans-serif\;">Come see\, listen\, &amp\; enjoy a variety of floats\, vehicles\, and school marching bands\, on <strong><span style="font-family:arial\,sans-serif\;">Saturday\, September 30\, 2023</span></strong></span> for the annual Band Day parade and field competition.<span style="letter-spacing:-.15pt\;"> We are especially excited this year to celebrate the 75<sup>th</sup> anniversary of this popular Algona tradition! Special activities have been planned for this year&rsquo\;s celebration including a float contest\, alumni band\, color guard kids camp\, and fireworks! </span><strong><em><span style="letter-spacing:-.15pt\;"><span style="font-family:arial\,sans-serif\;"><span style="font-size:10.0pt\;">You can still enter your business or organization in our Band Day parade &ndash\; contact the Chamber today!</span></span></span></em></strong>\n<ul>\n	<li><span style="letter-spacing:-.15pt\;">NEW this year is a Food Truck Food Court at the corner of Thorington &amp\; State Street to offer more food options during the festival. Six food trucks will be available from noon &ndash\; 6 p.m. In honor of our fallen police officer Kevin Cram\, the Chamber has teamed up with Hy-Vee to make the food court a fundraiser for the Cram family\; 25% of profits from the food trucks will go to the family.</span></li>\n</ul>\nFollowed by the Algona Band Day Field Competition at the AHS stadium&nbsp\;<br />\n&nbsp\;
LOCATION:Parade will be go from East State Street to the end of West State Street in Algona
UID:e.3362.2040
SEQUENCE:3
DTSTAMP:20260423T045050Z
URL:https://www.algona.org/events/details/75th-annual-band-day-festival-2040
END:VEVENT

END:VCALENDAR
