BEGIN:VCALENDAR
VERSION:2.0
PRODID:-//ChamberMaster//Event Calendar 2.0//EN
METHOD:PUBLISH
X-PUBLISHED-TTL:P3D
REFRESH-INTERVAL:P3D
CALSCALE:GREGORIAN
BEGIN:VEVENT
DTSTART:20261024T140000Z
DTEND:20261024T200000Z
X-MICROSOFT-CDO-ALLDAYEVENT:FALSE
SUMMARY:34th Annual Algona Autumnfest Craft & Vendor Show
DESCRIPTION:Get ready for one of Algona's favorite fall traditions! The 34th Annual Autumnfest Craft Show will take place on Saturday\, October 24\, 2026\, from 9:00 a.m. to 3:00 p.m.\n\nWith 100+ booths of handmade and handcrafted items all under one roof\, this event is the perfect place to kick off your holiday shopping\, discover one-of-a-kind treasures\, and support talented artisans from across the region. From seasonal d cor and jewelry to woodworking\, textiles\, home goods\, specialty gifts\, and more   there's truly something for everyone. Shoppers will also enjoy a mix of vendors representing popular cash-and-carry brands such as Tupperware\, Scentsy\, LuLaRoe\, and more   with all items available for immediate purchase and to take home the same day.\n\n  2026 Show Update   One Location\, One Roof!\n\nFor 2026\, the entire show is moving to the Algona Fieldhouse   a new state-of-the-art facility located on the southeast side of the Algona Community Schools campus.\n\nAll vendors will be housed together in one spacious location\, eliminating hallway transitions and creating a smoother\, more enjoyable shopping experience for attendees. The open layout provides better flow\, more room to browse\, and a comfortable environment to spend the day exploring.\n\nMark your calendars\, invite your friends\, and plan to make a day of it   shopping local\, supporting small businesses\, and celebrating the creativity that makes our community shine. We can't wait to see you at Autumnfest 2026! \n\n\n\n2026 CRAFTER LETTER: https://chambermaster.blob.core.windows.net/userfiles/UserFiles/chambers/3362/File/2026CrafterLetter.pdf\n\n2026 CRAFTER CONTRACT: https://chambermaster.blob.core.windows.net/userfiles/UserFiles/chambers/3362/File/2026CraftersContract.pdf\n\n2026 VENDOR LETTER: https://chambermaster.blob.core.windows.net/userfiles/UserFiles/chambers/3362/File/2026VendorLetter.pdf\n\n2026 VENDOR CONTRACT: https://chambermaster.blob.core.windows.net/userfiles/UserFiles/chambers/3362/File/2026VendorContract.pdf
X-ALT-DESC;FMTTYPE=text/html:<p data-end="318" data-start="142"><span style="font-size:16px\;"><span style="font-family:tahoma\;">Get ready for one of Algona&rsquo\;s favorite fall traditions! The <strong data-end="239" data-start="202">34th Annual Autumnfest Craft Show</strong> will take place on <strong data-end="318" data-start="259">Saturday\, October 24\, 2026\, from 9:00 a.m. to 3:00 p.m.</strong></span></span></p>\n\n<p data-end="833" data-start="320"><span style="font-size:16px\;"><span style="font-family:tahoma\;">With <strong data-end="393" data-start="325">100+ booths of handmade and handcrafted items all under one roof</strong>\, this event is the perfect place to kick off your holiday shopping\, discover one-of-a-kind treasures\, and support talented artisans from across the region. From seasonal d&eacute\;cor and jewelry to woodworking\, textiles\, home goods\, specialty gifts\, and more &mdash\; there&rsquo\;s truly something for everyone. Shoppers will also enjoy a mix of&nbsp\;vendors representing popular cash-and-carry brands such as Tupperware\, Scentsy\, LuLaRoe\, and more &mdash\; with all items available for immediate purchase and to take home the same day.</span></span></p>\n\n<h3 data-end="884" data-start="835"><span style="font-size:16px\;"><span style="font-family:tahoma\;">&#127967\; 2026 Show Update &ndash\; One Location\, One Roof!</span></span></h3>\n\n<p data-end="1082" data-start="885"><span style="font-size:16px\;"><span style="font-family:tahoma\;">For 2026\, the entire show is moving to the <span class="hover:entity-accent entity-underline inline cursor-pointer align-baseline">Algona Fieldhouse</span> &mdash\; a new state-of-the-art facility located on the southeast side of the <span class="hover:entity-accent entity-underline inline cursor-pointer align-baseline">Algona Community Schools</span> campus.</span></span></p>\n\n<p data-end="1369" data-start="1084"><span style="font-size:16px\;"><span style="font-family:tahoma\;">All vendors will be housed together in one spacious location\, eliminating hallway transitions and creating a smoother\, more enjoyable shopping experience for attendees. The open layout provides better flow\, more room to browse\, and a comfortable environment to spend the day exploring.</span></span></p>\n\n<p data-end="1600" data-is-last-node="" data-is-only-node="" data-start="1371"><span style="font-size:16px\;"><span style="font-family:tahoma\;">Mark your calendars\, invite your friends\, and plan to make a day of it &mdash\; shopping local\, supporting small businesses\, and celebrating the creativity that makes our community shine. We can&rsquo\;t wait to see you at Autumnfest 2026!&nbsp\;</span></span><br />\n<br />\n2026 CRAFTER LETTER:&nbsp\;<a href="https://chambermaster.blob.core.windows.net/userfiles/UserFiles/chambers/3362/File/2026CrafterLetter.pdf">https://chambermaster.blob.core.windows.net/userfiles/UserFiles/chambers/3362/File/2026CrafterLetter.pdf</a><br />\n2026 CRAFTER CONTRACT:&nbsp\;<a href="https://chambermaster.blob.core.windows.net/userfiles/UserFiles/chambers/3362/File/2026CraftersContract.pdf">https://chambermaster.blob.core.windows.net/userfiles/UserFiles/chambers/3362/File/2026CraftersContract.pdf</a><br />\n2026 VENDOR LETTER:&nbsp\;<a href="https://chambermaster.blob.core.windows.net/userfiles/UserFiles/chambers/3362/File/2026VendorLetter.pdf">https://chambermaster.blob.core.windows.net/userfiles/UserFiles/chambers/3362/File/2026VendorLetter.pdf</a><br />\n2026 VENDOR CONTRACT:&nbsp\;<a href="https://chambermaster.blob.core.windows.net/userfiles/UserFiles/chambers/3362/File/2026VendorContract.pdf">https://chambermaster.blob.core.windows.net/userfiles/UserFiles/chambers/3362/File/2026VendorContract.pdf</a><br />\n&nbsp\;</p>\n
LOCATION:Algona Community Schools Fieldhouse 600 S. Hale St\, Algona
UID:e.3362.2893
SEQUENCE:3
DTSTAMP:20260425T133928Z
URL:https://www.algona.org/events/details/34th-annual-algona-autumnfest-craft-vendor-show-2893
END:VEVENT

END:VCALENDAR
